BEGIN:VCALENDAR
VERSION:2.0
PRODID:-//Městská galerie Litomyšl - ECPv6.0.8//NONSGML v1.0//EN
CALSCALE:GREGORIAN
METHOD:PUBLISH
X-WR-CALNAME:Městská galerie Litomyšl
X-ORIGINAL-URL:https://www.galerie.litomysl.cz/en/
X-WR-CALDESC:Events for Městská galerie Litomyšl
REFRESH-INTERVAL;VALUE=DURATION:PT1H
X-Robots-Tag:noindex
X-PUBLISHED-TTL:PT1H
BEGIN:VTIMEZONE
TZID:Europe/Prague
BEGIN:DAYLIGHT
TZOFFSETFROM:+0100
TZOFFSETTO:+0200
TZNAME:CEST
DTSTART:20260329T010000
END:DAYLIGHT
BEGIN:STANDARD
TZOFFSETFROM:+0200
TZOFFSETTO:+0100
TZNAME:CET
DTSTART:20261025T010000
END:STANDARD
END:VTIMEZONE
BEGIN:VEVENT
DTSTART;TZID=Europe/Prague:20260425T090000
DTEND;TZID=Europe/Prague:20260425T140000
DTSTAMP:20260425T053815
CREATED:20260404T210444Z
LAST-MODIFIED:20260404T210444Z
UID:16772-1777107600-1777125600@www.galerie.litomysl.cz
SUMMARY:Fashion for Gallery Vol. 2
DESCRIPTION:What began as an idea is now nearing completion after a year of preparation. Fashion for Gallery Vol. 2 is the next step toward opening the new Window Gallery—a gallery you’ll stumble upon while strolling through Litomyšl.   \n\n            \n              Fashion for Gallery Vol. 2\n              \n            \n          \n          “Fashion for Gallery Vol. 2” is the second edition of the bazaar\, which we organize together with friends of the gallery. It was born out of the need to complete a project that has been gradually growing for over a year.   \n          Proceeds from the bazaar will support the realization of the Window Gallery in Magdalena Dobromila Rettigová Street – a gallery that will become a natural part of the rhythm of the city.  You can read more about the project on our blog. \n\n            \n              When and where\n              \n            \n          \n          April 25\, 2026\, 9:00-14:00 \n          City Gallery Litomyšl\, Toulovcovo Square 156 \n\n            \n              Do you want to support us and contribute?\n              \n            \n          \n          Do you have clothes at home that you no longer wear but deserve a new life?\n\n          Bring it to us by Friday\, April 24 at the address above.\n\n          We welcome clothes\, shoes and accessories in great condition – in short\, pieces that their new owners will love to wear. \n          Thank you for being with us and we look forward to seeing you again. \n          \n            Your gallery
URL:https://www.galerie.litomysl.cz/en/event/fashion-for-gallery-vol-2/
LOCATION:Toulovcovo nám. 156
CATEGORIES:Charity Bazaar
ATTACH;FMTTYPE=image/jpeg:https://www.galerie.litomysl.cz/wp-content/uploads/487824834_18378163036142645_5200662918392456962_n-1-e1744142414713.jpg
ORGANIZER;CN="M%C4%9Bstsk%C3%A1%20galerie%20Litomy%C5%A1l":MAILTO:galerie@litomysl.cz
END:VEVENT
BEGIN:VEVENT
DTSTART;TZID=Europe/Prague:20260501T100000
DTEND;TZID=Europe/Prague:20260501T120000
DTSTAMP:20260425T053815
CREATED:20260404T210350Z
LAST-MODIFIED:20260404T210350Z
UID:16771-1777629600-1777636800@www.galerie.litomysl.cz
SUMMARY:European breakfast
DESCRIPTION:We invite you to another European breakfast. We will meet on 1 May 2026 at Toulovec Square and together we will eat what we like – and what we have not yet tasted.  \nBRING WHAT YOU LIKE\nLet us rejoice together in the diversity that Europe offers us. Cook\, bake or prepare a dish or drink from a European country close to your heart – and share it with others.  \nOR JUST STOP BY\nNo time to cook? No problem. Stop by for coffee\, a hot dog or something good and enjoy a morning together. Everyone is welcome – even those who just drop in.    \nWHO’S BEHIND THE BREAKFAST\nThe European Breakfast is organised by the Litomyšl City Gallery and Generation 89. We look forward to seeing you.  \nLOOKING FOR INSPIRATION?\nYou may already know what you’re going to prepare. And maybe you’re still looking. Europe is incredibly varied “on the plate”. Each country has its simple everyday dishes and festive recipes that have been handed down from generation to generation. We’ve picked out a few blogs to inspire you.     \nRecipes From Europe \nA blog that connects European countries through their traditional cuisine. Recipes are neatly divided by country and are often based on family traditions.  \nEating European \nA contemporary view of European and Mediterranean cuisine. Here you will find lighter\, everyday recipes that are easy to cook and share.  \nEuropean Kitchen \nA place where recipes meet stories. Every dish here carries a piece of the region it comes from.
URL:https://www.galerie.litomysl.cz/en/event/european-breakfast-2/
LOCATION:Toulovcovo nám. 156
CATEGORIES:European breakfast
ATTACH;FMTTYPE=image/jpeg:https://www.galerie.litomysl.cz/wp-content/uploads/friends-doing-toast-outdoors-scaled.jpg
ORGANIZER;CN="M%C4%9Bstsk%C3%A1%20galerie%20Litomy%C5%A1l":MAILTO:galerie@litomysl.cz
END:VEVENT
BEGIN:VEVENT
DTSTART;TZID=Europe/Prague:20260613T150000
DTEND;TZID=Europe/Prague:20260613T170000
DTSTAMP:20260425T053815
CREATED:20260411T210202Z
LAST-MODIFIED:20260411T210202Z
UID:17009-1781362800-1781370000@www.galerie.litomysl.cz
SUMMARY:Jaroslav Róna. Silence and myths
DESCRIPTION:This year’s open-air exhibition of the Smetana Art Festival Litomyšl is dedicated to Jaroslav Róna\, a sculptor who needs little introduction in the Czech context. Just think of the monument to Franz Kafka in Prague or the equestrian statue of Margrave Jost in Brno. The exhibition in Litomyšl entitled Silence and Myths is the author’s most comprehensive show in public space to date.   \nThe grace of Jaroslav Róna’s sculptural works lies in the figure\, through which he reflects his rich imagination instead of reality\, embodied in proxy symbols in the form of humanoid and animal beings. The silent\, mythical worlds of J. Róna come to life in monuments whose shape deformation\, reminiscent of totems or idols of natural nations\, is so organic that they do not appear as a foreign element in the urban civilization of the 21st century. On the contrary\, the stoic calm of the majestic statues accentuates the fact that the city is not only a source of stress\, but also a safe zone\, capable of providing a backdrop and an opportunity for relaxation.    \nThe opening of the exhibition will take place in the form of a guided tour on Saturday 13 June at 15:00. \nMeeting place: in front of the Piarist Church of the Finding of St. Crosses
URL:https://www.galerie.litomysl.cz/en/event/jaroslav-rona-silence-and-myths/
LOCATION:Centrum města Litomyšl
CATEGORIES:Opening of the exhibition
ORGANIZER;CN="M%C4%9Bstsk%C3%A1%20galerie%20Litomy%C5%A1l":MAILTO:galerie@litomysl.cz
END:VEVENT
BEGIN:VEVENT
DTSTART;TZID=Europe/Prague:20260614T100000
DTEND;TZID=Europe/Prague:20260614T120000
DTSTAMP:20260425T053815
CREATED:20260411T210010Z
LAST-MODIFIED:20260411T210010Z
UID:17007-1781431200-1781438400@www.galerie.litomysl.cz
SUMMARY:There are more variants
DESCRIPTION:The exhibition Variants are More in Litomyšl connects 19th century portraiture with contemporary art. It is the central show of the Smetana Art Festival Litomyšl.   \nThe exhibition connects 19th century portrait paintings from the collection of the Litomyšl Municipal Gallery with contemporary approaches to depicting the face. Within modern portraiture\, many of the functions of traditional portraiture have naturally given way to formal and interpretive experiments and the freedom to authentically express one’s own artistic identity. The work of Kateřina Šedá\, Krištof Kintera\, Natalie Perkof\, Alžběta Skálová\, Jana Farmanová and Milena Dopitová offers the opportunity to explore the current transformations of a genre that has not abandoned its original potential to capture the human mood\, but at the same time does not hesitate to cross the boundaries from the realistic capture of the individual to the conceptual collective or directly anonymous portrait.    \nThe opening of the exhibition will take place on Sunday 14 June at 10:30 in the Municipal Picture Gallery on the second floor of the Litomyšl Chateau.
URL:https://www.galerie.litomysl.cz/en/event/there-are-more-variants/
LOCATION:Zámek Litomyšl (2. patro)\, Jiráskova 93\, Litomyšl\, 57001\, Česká republika
CATEGORIES:Opening of the exhibition
ORGANIZER;CN="M%C4%9Bstsk%C3%A1%20galerie%20Litomy%C5%A1l":MAILTO:galerie@litomysl.cz
END:VEVENT
BEGIN:VEVENT
DTSTART;TZID=Europe/Prague:20260614T100000
DTEND;TZID=Europe/Prague:20260614T120000
DTSTAMP:20260425T053815
CREATED:20260411T210115Z
LAST-MODIFIED:20260411T210115Z
UID:17008-1781431200-1781438400@www.galerie.litomysl.cz
SUMMARY:NATURA
DESCRIPTION:The NATURA exhibition in the Municipal Picture Gallery at the Litomyšl Chateau will present jewellery collections designed by students of the Jewellery Design Studio of the Tomas Bata University in Zlín on the basis of a commission from the curators of the Litomyšl Municipal Gallery. \nThe theme of “natura”\, which is also the theme of this year’s Smetana Art Festival Litomyšl\, is seen by young authors in many meanings – as nature\, naturalness and the very essence of our existence. The result is a collection of jewellery that reflects the many layers of the theme and the unique approach of the individual authors.  \nThe opening of the exhibition takes place on 14. 6. 2026 at 10.00 in the Municipal Picture Gallery.
URL:https://www.galerie.litomysl.cz/en/event/natura/
LOCATION:Zámek Litomyšl (2. patro)\, Jiráskova 93\, Litomyšl\, 57001\, Česká republika
CATEGORIES:Opening of the exhibition
ORGANIZER;CN="M%C4%9Bstsk%C3%A1%20galerie%20Litomy%C5%A1l":MAILTO:galerie@litomysl.cz
END:VEVENT
BEGIN:VEVENT
DTSTART;TZID=Europe/Prague:20260614T150000
DTEND;TZID=Europe/Prague:20260614T170000
DTSTAMP:20260425T053815
CREATED:20260411T205915Z
LAST-MODIFIED:20260411T205915Z
UID:17006-1781449200-1781456400@www.galerie.litomysl.cz
SUMMARY:Out of Ostrale
DESCRIPTION:The Out of Ostrale exhibition will present the best of the Dresden Biennale  OSTRALE in the majestic space of the Red Tower in Litomyšl. \nThe OSTRALE Biennial is an established cultural event that presents an incredible breadth of contemporary European and non-European art. The collection of works selected for the exhibition in Litomyšl is a multivocal\, deeply personal statement\, loosely intertwined with the themes of time\, childhood\, human memory\, motherhood\, but also the unceasing homesickness\, alienation\, loss of identity and ecological illusions.  \nThe opening of the exhibition will take place on Sunday 14 June at 15:00 in the Red Tower.
URL:https://www.galerie.litomysl.cz/en/event/out-of-ostrale/
LOCATION:Jaroslav Róna. Silence and myths
CATEGORIES:Opening of the exhibition
ORGANIZER;CN="M%C4%9Bstsk%C3%A1%20galerie%20Litomy%C5%A1l":MAILTO:galerie@litomysl.cz
END:VEVENT
END:VCALENDAR